BEGIN:VCALENDAR
VERSION:2.0
PRODID:-//National Association of Attorneys General - ECPv6.15.17//NONSGML v1.0//EN
CALSCALE:GREGORIAN
METHOD:PUBLISH
X-WR-CALNAME:National Association of Attorneys General
X-ORIGINAL-URL:https://www.naag.org
X-WR-CALDESC:Events for National Association of Attorneys General
REFRESH-INTERVAL;VALUE=DURATION:PT1H
X-Robots-Tag:noindex
X-PUBLISHED-TTL:PT1H
BEGIN:VTIMEZONE
TZID:America/New_York
BEGIN:DAYLIGHT
TZOFFSETFROM:-0500
TZOFFSETTO:-0400
TZNAME:EDT
DTSTART:20200308T070000
END:DAYLIGHT
BEGIN:STANDARD
TZOFFSETFROM:-0400
TZOFFSETTO:-0500
TZNAME:EST
DTSTART:20201101T060000
END:STANDARD
BEGIN:DAYLIGHT
TZOFFSETFROM:-0500
TZOFFSETTO:-0400
TZNAME:EDT
DTSTART:20210314T070000
END:DAYLIGHT
BEGIN:STANDARD
TZOFFSETFROM:-0400
TZOFFSETTO:-0500
TZNAME:EST
DTSTART:20211107T060000
END:STANDARD
BEGIN:DAYLIGHT
TZOFFSETFROM:-0500
TZOFFSETTO:-0400
TZNAME:EDT
DTSTART:20220313T070000
END:DAYLIGHT
BEGIN:STANDARD
TZOFFSETFROM:-0400
TZOFFSETTO:-0500
TZNAME:EST
DTSTART:20221106T060000
END:STANDARD
END:VTIMEZONE
BEGIN:VEVENT
DTSTART;TZID=America/New_York:20211026T080000
DTEND;TZID=America/New_York:20211028T170000
DTSTAMP:20260424T162702
CREATED:20210805T194921Z
LAST-MODIFIED:20210823T141932Z
UID:17814-1635235200-1635440400@www.naag.org
SUMMARY:2021 NAGTRI Antitrust Seminar
DESCRIPTION:October 26-28\, 2021\nPhiladelphia\, PA \nThis annual seminar provides training on issues of interest to state antitrust enforcers that are typically not addressed in more general antitrust programs. Topics to be addressed at this year’s seminar include: \n\nValuation of antitrust claims\nDiscovery under FRCP 26\nBest practices for remote depositions\nAntitrust issues in labor markets\nEffect of the Supreme Court’s decision on disgorgement in AMG Capital\nIntersection of big tech and healthcare\nState action immunity\nFederal government antitrust priorities\n\nThere will be time allotted at the end of each day for litigation meetings.  This course is intended for attorney general office attorneys who represent the state and its citizens in antitrust matters. \nScholarship Nominations\nOne scholarship is available for each attorney general office for this conference. After the nominations have closed\, each office will be alerted of which nominated attendee from their office has been accepted for a scholarship. If there is a second attorney general staff member who would like to attend this conference\, please contact Emily Parsons at eparsons@naag.org. \nNominations will be due by Friday\, August 27\, 2021. \nNon-Scholarship Pricing\nNon-scholarship pricing is available for additional attendees and pricing will depend on the number of total attendees from your office. Please see below for more information. Offices should contact Emily Parsons at eparsons@naag.org to register additional staff members. \n\n\n\nCategory\nRegistration Fee\n\n\nFirst attorney general staff member from a State\n $575.00\n\n\nSecond (or more) attendee\n $395.00\n\n\n\n  \nContact your nominator: If you are interested in attending this conference\, click the button below and follow the instructions to contact your office’s NAAG Nominator and submit your interest. \nExpress Your Interest \nCLE\nNAGTRI will apply for CLE for attendees eligible under CLE accrediting body guidelines. Note: If you or anyone in your office has any questions\, please do not hesitate to contact Emily Parsons at eparsons@naag.org.
URL:https://www.naag.org/event/2021-nagtri-antitrust-seminar/
LOCATION:Philadelphia\, PA
CATEGORIES:NAGTRI National
ATTACH;FMTTYPE=image/jpeg:https://www.naag.org/wp-content/uploads/image-gallery/antitrust/antitrust_1093770089-1200px.jpg
END:VEVENT
END:VCALENDAR