BEGIN:VCALENDAR
VERSION:2.0
PRODID:-//National Association of Attorneys General - ECPv5.5.0.1//NONSGML v1.0//EN
CALSCALE:GREGORIAN
METHOD:PUBLISH
X-WR-CALNAME:National Association of Attorneys General
X-ORIGINAL-URL:https://www.naag.org
X-WR-CALDESC:Events for National Association of Attorneys General
BEGIN:VTIMEZONE
TZID:America/New_York
BEGIN:DAYLIGHT
TZOFFSETFROM:-0500
TZOFFSETTO:-0400
TZNAME:EDT
DTSTART:20210314T070000
END:DAYLIGHT
BEGIN:STANDARD
TZOFFSETFROM:-0400
TZOFFSETTO:-0500
TZNAME:EST
DTSTART:20211107T060000
END:STANDARD
END:VTIMEZONE
BEGIN:VEVENT
DTSTART;TZID=America/New_York:20210420T140000
DTEND;TZID=America/New_York:20210420T150000
DTSTAMP:20210513T093117
CREATED:20210330T161459Z
LAST-MODIFIED:20210406T160518Z
UID:15547-1618927200-1618930800@www.naag.org
SUMMARY:We're Hiring! How to Create an Effective Job Description to Attract Talent
DESCRIPTION:This webinar is hosted by the NAGTRI Center for Leadership Development. \nTuesday\, April 20 at 2:00 p.m. – 3:00 p.m. ET \nThis interactive webinar offers information on developing and updating position descriptions as tools that support overall performance management. The presenter will: \n\nAddress the value and purpose of job descriptions and essential content.\nSuggest best practices for writing useful job descriptions.\nDiscuss job description samples and reference the differences between descriptions and work plans.\n\nAttendees will have the opportunity to engage in an activity applying the material presented. Attendees are encouraged to submit questions and examples for the presenter to address during the webinar\, as well as to provide questions and comments throughout the session. \nRegistration\n\n\nThe webinar is intended for attorneys\, management\, administration\, support\, and all service professionals in the office (i.e.\, IT\, Investigators\, Press Officers\, Human Resources). \n\n\nUse the registration link to register through your NAAG account. If you do not have an account\, please create one before trying to register. Please contact Michelle Zaman at mzaman@naag.org if you have any questions. \nCLE Credit\nCLE will not be provided for this webinar. However\, a Certificate of Attendance (non-CLE) will be emailed to all attendees as confirmation of your attendance and participation in the program. \n 
URL:https://www.naag.org/event/were-hiring-how-to-create-an-effective-job-description-to-attract-talent/
LOCATION:Virtual
CATEGORIES:Webinar
ATTACH;FMTTYPE=image/jpeg:https://www.naag.org/wp-content/uploads/2021/03/employment_1016363545-1200px.jpg
ORGANIZER;CN="Michelle%20Zaman":MAILTO:mzaman@naag.org
END:VEVENT
END:VCALENDAR